BEGIN:VCALENDAR
VERSION:2.0
PRODID:-//Healing Life - ECPv5.3.2.1//NONSGML v1.0//EN
CALSCALE:GREGORIAN
METHOD:PUBLISH
X-WR-CALNAME:Healing Life
X-ORIGINAL-URL:https://healinglife.com.au
X-WR-CALDESC:Events for Healing Life
BEGIN:VTIMEZONE
TZID:Australia/Sydney
BEGIN:STANDARD
TZOFFSETFROM:+1100
TZOFFSETTO:+1000
TZNAME:AEST
DTSTART:20210403T160000
END:STANDARD
BEGIN:DAYLIGHT
TZOFFSETFROM:+1000
TZOFFSETTO:+1100
TZNAME:AEDT
DTSTART:20211002T160000
END:DAYLIGHT
END:VTIMEZONE
BEGIN:VEVENT
DTSTART;TZID=Australia/Sydney:20210328T100000
DTEND;TZID=Australia/Sydney:20210328T173000
DTSTAMP:20210226T142602
CREATED:20210207T224943Z
LAST-MODIFIED:20210207T224943Z
UID:1424-1616925600-1616952600@healinglife.com.au
SUMMARY:Health & Body Soul Festival- Healing Life Booth is a Free Pranic Healing Clinic
DESCRIPTION:
URL:https://healinglife.com.au/event/health-body-soul-festival-healing-life-booth-is-a-free-pranic-healing-clinic/
LOCATION:Brunswick Town Hall\, 233 Sydney Road\, Brunswick\, VIC\, 3056
ATTACH;FMTTYPE=image/jpeg:https://healinglife.com.au/wp-content/uploads/2018/12/4D03DEA0-C0A6-41D2-BFD7-62A3A96AEFCF_1_201_a-scaled.jpeg
END:VEVENT
END:VCALENDAR